BEGIN:VCALENDAR
VERSION:2.0
PRODID:-//South Shore Art Center - ECPv6.15.18//NONSGML v1.0//EN
CALSCALE:GREGORIAN
METHOD:PUBLISH
X-ORIGINAL-URL:https://www.ssac.org
X-WR-CALDESC:Events for South Shore Art Center
REFRESH-INTERVAL;VALUE=DURATION:PT1H
X-Robots-Tag:noindex
X-PUBLISHED-TTL:PT1H
BEGIN:VTIMEZONE
TZID:America/New_York
BEGIN:DAYLIGHT
TZOFFSETFROM:-0500
TZOFFSETTO:-0400
TZNAME:EDT
DTSTART:20250309T070000
END:DAYLIGHT
BEGIN:STANDARD
TZOFFSETFROM:-0400
TZOFFSETTO:-0500
TZNAME:EST
DTSTART:20251102T060000
END:STANDARD
BEGIN:DAYLIGHT
TZOFFSETFROM:-0500
TZOFFSETTO:-0400
TZNAME:EDT
DTSTART:20260308T070000
END:DAYLIGHT
BEGIN:STANDARD
TZOFFSETFROM:-0400
TZOFFSETTO:-0500
TZNAME:EST
DTSTART:20261101T060000
END:STANDARD
BEGIN:DAYLIGHT
TZOFFSETFROM:-0500
TZOFFSETTO:-0400
TZNAME:EDT
DTSTART:20270314T070000
END:DAYLIGHT
BEGIN:STANDARD
TZOFFSETFROM:-0400
TZOFFSETTO:-0500
TZNAME:EST
DTSTART:20271107T060000
END:STANDARD
END:VTIMEZONE
BEGIN:VEVENT
DTSTART;TZID=America/New_York:20260625T180000
DTEND;TZID=America/New_York:20260718T160000
DTSTAMP:20260420T233556
CREATED:20251103T204331Z
LAST-MODIFIED:20260415T183241Z
UID:10000059-1782410400-1784390400@www.ssac.org
SUMMARY:We Can Only Be Human Together
DESCRIPTION:Featuring C.A. Stigliano\, Sally B. Moore\, Judy Haberl and Colin Moore
URL:https://www.ssac.org/event/we-can-only-be-human-together-featuring-colin-moore/
LOCATION:Bancroft Gallery\, 119 Ripley Rd.\, Cohasset\, Massachusetts\, 02025\, United States
END:VEVENT
BEGIN:VEVENT
DTSTART;TZID=America/New_York:20260723T180000
DTEND;TZID=America/New_York:20260905T160000
DTSTAMP:20260420T233556
CREATED:20251103T204713Z
LAST-MODIFIED:20251103T204714Z
UID:10000060-1784829600-1788624000@www.ssac.org
SUMMARY:Blue Ribbon Members' 2026 Show
DESCRIPTION:
URL:https://www.ssac.org/event/blue-ribbon-members-2026-show/
LOCATION:Bancroft & Dillon Gallery\, Ripley Road\, Cohasset\, Massachusetts\, 02025\, United States
GEO:42.2406798;-70.8037068
X-APPLE-STRUCTURED-LOCATION;VALUE=URI;X-ADDRESS=Bancroft & Dillon Gallery Ripley Road Cohasset Massachusetts 02025 United States;X-APPLE-RADIUS=500;X-TITLE=Ripley Road:geo:-70.8037068,42.2406798
END:VEVENT
BEGIN:VEVENT
DTSTART;TZID=America/New_York:20260910T180000
DTEND;TZID=America/New_York:20261028T160000
DTSTAMP:20260420T233556
CREATED:20251103T204856Z
LAST-MODIFIED:20251103T204858Z
UID:10000061-1789063200-1793203200@www.ssac.org
SUMMARY:Nature & Nurture
DESCRIPTION:
URL:https://www.ssac.org/event/nature-nurture/
LOCATION:Bancroft Gallery\, 119 Ripley Rd.\, Cohasset\, Massachusetts\, 02025\, United States
END:VEVENT
BEGIN:VEVENT
DTSTART;TZID=America/New_York:20261105T180000
DTEND;TZID=America/New_York:20261219T160000
DTSTAMP:20260420T233556
CREATED:20251103T205117Z
LAST-MODIFIED:20251103T205201Z
UID:10000062-1793901600-1797696000@www.ssac.org
SUMMARY:Fall 2026 National Juried Show
DESCRIPTION:
URL:https://www.ssac.org/event/fall-2026-national-juried-show/
LOCATION:Bancroft Gallery\, 119 Ripley Rd.\, Cohasset\, Massachusetts\, 02025\, United States
END:VEVENT
END:VCALENDAR