BEGIN:VCALENDAR
VERSION:2.0
PRODID:-//South Shore Art Center - ECPv6.15.18//NONSGML v1.0//EN
CALSCALE:GREGORIAN
METHOD:PUBLISH
X-WR-CALNAME:South Shore Art Center
X-ORIGINAL-URL:https://www.ssac.org
X-WR-CALDESC:Events for South Shore Art Center
REFRESH-INTERVAL;VALUE=DURATION:PT1H
X-Robots-Tag:noindex
X-PUBLISHED-TTL:PT1H
BEGIN:VTIMEZONE
TZID:America/New_York
BEGIN:DAYLIGHT
TZOFFSETFROM:-0500
TZOFFSETTO:-0400
TZNAME:EDT
DTSTART:20250309T070000
END:DAYLIGHT
BEGIN:STANDARD
TZOFFSETFROM:-0400
TZOFFSETTO:-0500
TZNAME:EST
DTSTART:20251102T060000
END:STANDARD
BEGIN:DAYLIGHT
TZOFFSETFROM:-0500
TZOFFSETTO:-0400
TZNAME:EDT
DTSTART:20260308T070000
END:DAYLIGHT
BEGIN:STANDARD
TZOFFSETFROM:-0400
TZOFFSETTO:-0500
TZNAME:EST
DTSTART:20261101T060000
END:STANDARD
BEGIN:DAYLIGHT
TZOFFSETFROM:-0500
TZOFFSETTO:-0400
TZNAME:EDT
DTSTART:20270314T070000
END:DAYLIGHT
BEGIN:STANDARD
TZOFFSETFROM:-0400
TZOFFSETTO:-0500
TZNAME:EST
DTSTART:20271107T060000
END:STANDARD
END:VTIMEZONE
BEGIN:VEVENT
DTSTART;TZID=America/New_York:20260507T180000
DTEND;TZID=America/New_York:20260613T160000
DTSTAMP:20260420T195717
CREATED:20251103T203932Z
LAST-MODIFIED:20260417T012440Z
UID:10000058-1778176800-1781366400@www.ssac.org
SUMMARY:In the Valley of the Shadow Exhibition
DESCRIPTION:
URL:https://www.ssac.org/event/valley-of-shadows-exhibition/
LOCATION:Bancroft Gallery\, 119 Ripley Rd.\, Cohasset\, Massachusetts\, 02025\, United States
END:VEVENT
END:VCALENDAR